BEGIN:VCALENDAR
VERSION:2.0
PRODID:-//DIOCESI DI ROMA - ECPv4.6.14.1//NONSGML v1.0//EN
CALSCALE:GREGORIAN
METHOD:PUBLISH
X-WR-CALNAME:DIOCESI DI ROMA
X-ORIGINAL-URL:https://www.diocesidiroma.it
X-WR-CALDESC:Eventi per DIOCESI DI ROMA
BEGIN:VEVENT
DTSTART;TZID=Europe/Rome:20250621T093000
DTEND;TZID=Europe/Rome:20250621T093000
DTSTAMP:20260423T180130
CREATED:20250616T073103Z
LAST-MODIFIED:20250618T061806Z
UID:36114-1750498200-1750498200@www.diocesidiroma.it
SUMMARY:Visita al Carcere di Rebibbia
DESCRIPTION:Visita al Carcere di Rebibbia \n
URL:https://www.diocesidiroma.it/event/visita-al-carcere-di-rebibbia/
CATEGORIES:Vicario Generale
END:VEVENT
END:VCALENDAR