BEGIN:VCALENDAR
VERSION:2.0
PRODID:-//DIOCESI DI ROMA - ECPv4.6.14.1//NONSGML v1.0//EN
CALSCALE:GREGORIAN
METHOD:PUBLISH
X-WR-CALNAME:DIOCESI DI ROMA
X-ORIGINAL-URL:https://www.diocesidiroma.it
X-WR-CALDESC:Eventi per DIOCESI DI ROMA
BEGIN:VEVENT
DTSTART;TZID=Europe/Rome:20260211T140000
DTEND;TZID=Europe/Rome:20260211T140000
DTSTAMP:20260421T223044
CREATED:20260209T073138Z
LAST-MODIFIED:20260209T073138Z
UID:39816-1770818400-1770818400@www.diocesidiroma.it
SUMMARY:Visita alcuni detenuti a Rebibbia
DESCRIPTION:Visita alcuni detenuti a Rebibbia \n
URL:https://www.diocesidiroma.it/event/visita-alcuni-detenuti-a-rebibbia/
CATEGORIES:Vicario Generale
END:VEVENT
END:VCALENDAR