BEGIN:VCALENDAR
VERSION:2.0
PRODID:-//DIOCESI DI ROMA - ECPv4.6.14.1//NONSGML v1.0//EN
CALSCALE:GREGORIAN
METHOD:PUBLISH
X-WR-CALNAME:DIOCESI DI ROMA
X-ORIGINAL-URL:https://www.diocesidiroma.it
X-WR-CALDESC:Eventi per DIOCESI DI ROMA
BEGIN:VEVENT
DTSTART;VALUE=DATE:20250918
DTEND;VALUE=DATE:20250919
DTSTAMP:20260423T135900
CREATED:20250912T095414Z
LAST-MODIFIED:20250912T095414Z
UID:37204-1758153600-1758239999@www.diocesidiroma.it
SUMMARY:Visita alcuni parroci di nuova nomina
DESCRIPTION:Visita alcuni parroci di nuova nomina \n
URL:https://www.diocesidiroma.it/event/visita-alcuni-parroci-di-nuova-nomina/
CATEGORIES:Vicario Generale
END:VEVENT
END:VCALENDAR