BEGIN:VCALENDAR
VERSION:2.0
PRODID:-//DIOCESI DI ROMA - ECPv4.6.14.1//NONSGML v1.0//EN
CALSCALE:GREGORIAN
METHOD:PUBLISH
X-WR-CALNAME:DIOCESI DI ROMA
X-ORIGINAL-URL:https://www.diocesidiroma.it
X-WR-CALDESC:Eventi per DIOCESI DI ROMA
BEGIN:VEVENT
DTSTART;TZID=Europe/Rome:20250515T103000
DTEND;TZID=Europe/Rome:20250515T103000
DTSTAMP:20260423T223144
CREATED:20250509T072317Z
LAST-MODIFIED:20250509T072317Z
UID:35524-1747305000-1747305000@www.diocesidiroma.it
SUMMARY:Visita alla comunità monastica di Santa Cecilia
DESCRIPTION:Visita alla comunità monastica di Santa Cecilia \n
URL:https://www.diocesidiroma.it/event/visita-alla-comunita-monastica-di-santa-cecilia/
CATEGORIES:Vicario Generale
END:VEVENT
END:VCALENDAR