BEGIN:VCALENDAR
VERSION:2.0
PRODID:-//DIOCESI DI ROMA - ECPv4.6.14.1//NONSGML v1.0//EN
CALSCALE:GREGORIAN
METHOD:PUBLISH
X-WR-CALNAME:DIOCESI DI ROMA
X-ORIGINAL-URL:https://www.diocesidiroma.it
X-WR-CALDESC:Eventi per DIOCESI DI ROMA
BEGIN:VEVENT
DTSTART;TZID=Europe/Rome:20250110T123000
DTEND;TZID=Europe/Rome:20250110T123000
DTSTAMP:20260424T160946
CREATED:20250102T082221Z
LAST-MODIFIED:20250102T082243Z
UID:32934-1736512200-1736512200@www.diocesidiroma.it
SUMMARY:Visita alla grande Moschea di Roma e incontro con l’Imam e il direttore del centro culturale islamico
DESCRIPTION:Visita alla grande Moschea di Roma e incontro con l’Imam e il direttore del centro culturale islamico \n
URL:https://www.diocesidiroma.it/event/visita-alla-grande-moschea-di-roma-e-incontro-con-limam-e-il-direttore-del-centro-culturale-islamico/
CATEGORIES:Vicario Generale
END:VEVENT
END:VCALENDAR