BEGIN:VCALENDAR
VERSION:2.0
PRODID:-//DIOCESI DI ROMA - ECPv4.6.14.1//NONSGML v1.0//EN
CALSCALE:GREGORIAN
METHOD:PUBLISH
X-WR-CALNAME:DIOCESI DI ROMA
X-ORIGINAL-URL:https://www.diocesidiroma.it
X-WR-CALDESC:Eventi per DIOCESI DI ROMA
BEGIN:VEVENT
DTSTART;TZID=Europe/Rome:20260202T170000
DTEND;TZID=Europe/Rome:20260202T170000
DTSTAMP:20260422T094913
CREATED:20260129T114915Z
LAST-MODIFIED:20260129T114925Z
UID:39704-1770051600-1770051600@www.diocesidiroma.it
SUMMARY:Visita e celebra la Messa nella parrocchia Sant'Agapito
DESCRIPTION:Visita e celebra la Messa nella parrocchia Sant’Agapito \n
URL:https://www.diocesidiroma.it/event/visita-e-celebra-la-messa-nella-parrocchia-santagapito/
CATEGORIES:Vicario Generale
END:VEVENT
END:VCALENDAR