BEGIN:VCALENDAR
VERSION:2.0
PRODID:-//DIOCESI DI ROMA - ECPv4.6.14.1//NONSGML v1.0//EN
CALSCALE:GREGORIAN
METHOD:PUBLISH
X-WR-CALNAME:DIOCESI DI ROMA
X-ORIGINAL-URL:https://www.diocesidiroma.it
X-WR-CALDESC:Eventi per DIOCESI DI ROMA
BEGIN:VEVENT
DTSTART;TZID=Europe/Rome:20251003T150000
DTEND;TZID=Europe/Rome:20251003T150000
DTSTAMP:20260421T074124
CREATED:20250926T091506Z
LAST-MODIFIED:20250926T091506Z
UID:37418-1759503600-1759503600@www.diocesidiroma.it
SUMMARY:Visita e momento di preghiera con le reliquie di san Bernadette Soubirous alla Casa di reclusione di Rebibbia
DESCRIPTION:Visita e momento di preghiera con le reliquie di san Bernadette Soubirous alla Casa di reclusione di Rebibbia \n
URL:https://www.diocesidiroma.it/event/visita-e-momento-di-preghiera-con-le-reliquie-di-san-bernadette-soubirous-alla-casa-di-reclusione-di-rebibbia/
CATEGORIES:Vicario Generale
END:VEVENT
END:VCALENDAR