BEGIN:VCALENDAR
VERSION:2.0
PRODID:-//DIOCESI DI ROMA - ECPv4.6.14.1//NONSGML v1.0//EN
CALSCALE:GREGORIAN
METHOD:PUBLISH
X-WR-CALNAME:DIOCESI DI ROMA
X-ORIGINAL-URL:https://www.diocesidiroma.it
X-WR-CALDESC:Eventi per DIOCESI DI ROMA
BEGIN:VEVENT
DTSTART;TZID=Europe/Rome:20260331T160000
DTEND;TZID=Europe/Rome:20260331T160000
DTSTAMP:20260421T085241
CREATED:20260330T060401Z
LAST-MODIFIED:20260330T060401Z
UID:40735-1774972800-1774972800@www.diocesidiroma.it
SUMMARY:Visita e Santa Messa presso l’Istituto penale minorile Casal del Marmo
DESCRIPTION:Visita e Santa Messa presso l’Istituto penale minorile Casal del Marmo \n
URL:https://www.diocesidiroma.it/event/visita-e-santa-messa-presso-listituto-penale-minorile-casal-del-marmo/
CATEGORIES:Vicario Generale
END:VEVENT
END:VCALENDAR