BEGIN:VCALENDAR
VERSION:2.0
PRODID:-//DIOCESI DI ROMA - ECPv4.6.14.1//NONSGML v1.0//EN
CALSCALE:GREGORIAN
METHOD:PUBLISH
X-WR-CALNAME:DIOCESI DI ROMA
X-ORIGINAL-URL:https://www.diocesidiroma.it
X-WR-CALDESC:Eventi per DIOCESI DI ROMA
BEGIN:VEVENT
DTSTART;TZID=Europe/Rome:20221223T133000
DTEND;TZID=Europe/Rome:20221223T133000
DTSTAMP:20260422T082451
CREATED:20221216T102822Z
LAST-MODIFIED:20221216T102822Z
UID:24492-1671802200-1671802200@www.diocesidiroma.it
SUMMARY:Visita i cappellani delle carceri presso il Carcere di Rebibbia in occasione del Natale
DESCRIPTION:Visita i cappellani delle carceri presso il Carcere di Rebibbia in occasione del Natale. \n
URL:https://www.diocesidiroma.it/event/visita-i-cappellani-delle-carceri-presso-il-carcere-di-rebibbia-in-occasione-del-natale/
CATEGORIES:NON USARE --- Agenda del Vicario
END:VEVENT
END:VCALENDAR