BEGIN:VCALENDAR
VERSION:2.0
PRODID:-//DIOCESI DI ROMA - ECPv4.6.14.1//NONSGML v1.0//EN
CALSCALE:GREGORIAN
METHOD:PUBLISH
X-WR-CALNAME:DIOCESI DI ROMA
X-ORIGINAL-URL:https://www.diocesidiroma.it
X-WR-CALDESC:Eventi per DIOCESI DI ROMA
BEGIN:VEVENT
DTSTART;TZID=Europe/Rome:20241210T100000
DTEND;TZID=Europe/Rome:20241210T130000
DTSTAMP:20260422T233559
CREATED:20241206T110515Z
LAST-MODIFIED:20241206T110515Z
UID:32385-1733824800-1733835600@www.diocesidiroma.it
SUMMARY:Visita il Carcere di Rebibbia
DESCRIPTION:Visita il Carcere di Rebibbia \n
URL:https://www.diocesidiroma.it/event/visita-il-carcere-di-rebibbia/
CATEGORIES:Vicario Generale
END:VEVENT
END:VCALENDAR