BEGIN:VCALENDAR
VERSION:2.0
PRODID:-//DIOCESI DI ROMA - ECPv4.6.14.1//NONSGML v1.0//EN
CALSCALE:GREGORIAN
METHOD:PUBLISH
X-WR-CALNAME:DIOCESI DI ROMA
X-ORIGINAL-URL:https://www.diocesidiroma.it
X-WR-CALDESC:Eventi per DIOCESI DI ROMA
BEGIN:VEVENT
DTSTART;TZID=Europe/Rome:20190131T170000
DTEND;TZID=Europe/Rome:20190131T170000
DTSTAMP:20260422T100012
CREATED:20190125T094838Z
LAST-MODIFIED:20190125T094838Z
UID:6202-1548954000-1548954000@www.diocesidiroma.it
SUMMARY:Visita il Consultorio familiare al Quadraro
DESCRIPTION:Visita il Consultorio familiare al Quadraro.  \n
URL:https://www.diocesidiroma.it/event/visita-il-consultorio-familiare-al-quadraro/
CATEGORIES:NON USARE --- Agenda del Vicario
END:VEVENT
END:VCALENDAR