BEGIN:VCALENDAR
VERSION:2.0
PRODID:-//DIOCESI DI ROMA - ECPv4.6.14.1//NONSGML v1.0//EN
CALSCALE:GREGORIAN
METHOD:PUBLISH
X-WR-CALNAME:DIOCESI DI ROMA
X-ORIGINAL-URL:https://www.diocesidiroma.it
X-WR-CALDESC:Eventi per DIOCESI DI ROMA
BEGIN:VEVENT
DTSTART;TZID=Europe/Rome:20251215T123000
DTEND;TZID=Europe/Rome:20251215T140000
DTSTAMP:20260422T100323
CREATED:20251212T132332Z
LAST-MODIFIED:20251212T132332Z
UID:39039-1765801800-1765807200@www.diocesidiroma.it
SUMMARY:Visita il personale e gli ammalati dell'Azienda Ospedaliera San Camillo Forlanini
DESCRIPTION:Visita il personale e gli ammalati dell’Azienda Ospedaliera San Camillo Forlanini \n
URL:https://www.diocesidiroma.it/event/visita-il-personale-e-gli-ammalati-dellazienda-ospedaliera-san-camillo-forlanini/
CATEGORIES:Vicario Generale
END:VEVENT
END:VCALENDAR