BEGIN:VCALENDAR
VERSION:2.0
PRODID:-//DIOCESI DI ROMA - ECPv4.6.14.1//NONSGML v1.0//EN
CALSCALE:GREGORIAN
METHOD:PUBLISH
X-WR-CALNAME:DIOCESI DI ROMA
X-ORIGINAL-URL:https://www.diocesidiroma.it
X-WR-CALDESC:Eventi per DIOCESI DI ROMA
BEGIN:VEVENT
DTSTART;VALUE=DATE:20200211
DTEND;VALUE=DATE:20200214
DTSTAMP:20260422T175304
CREATED:20200207T091243Z
LAST-MODIFIED:20200214T075323Z
UID:9969-1581379200-1581638399@www.diocesidiroma.it
SUMMARY:Visita la Casa della diocesi di Roma a Gerusalemme
DESCRIPTION:Visita la Casa della diocesi di Roma a Gerusalemme. \n
URL:https://www.diocesidiroma.it/event/visita-la-casa-mater-misericordiae-della-diocesi-di-roma-a-gerusalemme/
CATEGORIES:NON USARE --- Agenda del Vicario
END:VEVENT
END:VCALENDAR