BEGIN:VCALENDAR
VERSION:2.0
PRODID:-//DIOCESI DI ROMA - ECPv4.6.14.1//NONSGML v1.0//EN
CALSCALE:GREGORIAN
METHOD:PUBLISH
X-WR-CALNAME:DIOCESI DI ROMA
X-ORIGINAL-URL:https://www.diocesidiroma.it
X-WR-CALDESC:Eventi per DIOCESI DI ROMA
BEGIN:VEVENT
DTSTART;TZID=Europe/Rome:20220226T183000
DTEND;TZID=Europe/Rome:20220226T183000
DTSTAMP:20260421T090427
CREATED:20220218T113910Z
LAST-MODIFIED:20220218T113910Z
UID:20372-1645900200-1645900200@www.diocesidiroma.it
SUMMARY:Visita la parrocchia dei Santi Gioacchino ed Anna in occasione del 40° anniversario di erezione
DESCRIPTION:Visita la parrocchia dei Santi Gioacchino ed Anna in occasione del 40° anniversario di erezione. \n
URL:https://www.diocesidiroma.it/event/visita-la-parrocchia-dei-santi-gioacchino-ed-anna-in-occasione-del-40-anniversario-di-erezione/
CATEGORIES:NON USARE --- Agenda del Vicario
END:VEVENT
END:VCALENDAR