BEGIN:VCALENDAR
VERSION:2.0
PRODID:-//DIOCESI DI ROMA - ECPv4.6.14.1//NONSGML v1.0//EN
CALSCALE:GREGORIAN
METHOD:PUBLISH
X-WR-CALNAME:DIOCESI DI ROMA
X-ORIGINAL-URL:https://www.diocesidiroma.it
X-WR-CALDESC:Eventi per DIOCESI DI ROMA
BEGIN:VEVENT
DTSTART;TZID=Europe/Rome:20260210T170000
DTEND;TZID=Europe/Rome:20260210T170000
DTSTAMP:20260423T164145
CREATED:20260209T072952Z
LAST-MODIFIED:20260209T072952Z
UID:39812-1770742800-1770742800@www.diocesidiroma.it
SUMMARY:Visita la parrocchia dei Santi Marcellino e Pietro ad Duos Lauros e celebra la S. Messa
DESCRIPTION:Visita la parrocchia dei Santi Marcellino e Pietro ad Duos Lauros e celebra la S. Messa \n
URL:https://www.diocesidiroma.it/event/visita-la-parrocchia-dei-santi-marcellino-e-pietro-ad-duos-lauros-e-celebra-la-s-messa/
CATEGORIES:Vicario Generale
END:VEVENT
END:VCALENDAR