BEGIN:VCALENDAR
VERSION:2.0
PRODID:-//DIOCESI DI ROMA - ECPv4.6.14.1//NONSGML v1.0//EN
CALSCALE:GREGORIAN
METHOD:PUBLISH
X-WR-CALNAME:DIOCESI DI ROMA
X-ORIGINAL-URL:https://www.diocesidiroma.it
X-WR-CALDESC:Eventi per DIOCESI DI ROMA
BEGIN:VEVENT
DTSTART;TZID=Europe/Rome:20250304T170000
DTEND;TZID=Europe/Rome:20250304T190000
DTSTAMP:20260422T232733
CREATED:20250228T094821Z
LAST-MODIFIED:20250228T094821Z
UID:34212-1741107600-1741114800@www.diocesidiroma.it
SUMMARY:Visita la parrocchia di San Gaudenzio
DESCRIPTION:Visita la parrocchia di San Gaudenzio  \n
URL:https://www.diocesidiroma.it/event/visita-la-parrocchia-di-san-gaudenzio/
CATEGORIES:Vicario Generale
END:VEVENT
END:VCALENDAR