BEGIN:VCALENDAR
VERSION:2.0
PRODID:-//DIOCESI DI ROMA - ECPv4.6.14.1//NONSGML v1.0//EN
CALSCALE:GREGORIAN
METHOD:PUBLISH
X-WR-CALNAME:DIOCESI DI ROMA
X-ORIGINAL-URL:https://www.diocesidiroma.it
X-WR-CALDESC:Eventi per DIOCESI DI ROMA
BEGIN:VEVENT
DTSTART;TZID=Europe/Rome:20260310T173000
DTEND;TZID=Europe/Rome:20260310T173000
DTSTAMP:20260421T020100
CREATED:20260305T115406Z
LAST-MODIFIED:20260305T115406Z
UID:40349-1773163800-1773163800@www.diocesidiroma.it
SUMMARY:Visita la parrocchia di San Josemaria Escrivá e alle 18.30 celebra la Santa Messa
DESCRIPTION:Visita la parrocchia di San Josemaria Escrivá e alle 18.30 celebra la Santa Messa \n
URL:https://www.diocesidiroma.it/event/visita-la-parrocchia-di-san-josemaria-escriva-e-alle-18-30-celebra-la-santa-messa/
CATEGORIES:Vicario Generale
END:VEVENT
END:VCALENDAR