BEGIN:VCALENDAR
VERSION:2.0
PRODID:-//DIOCESI DI ROMA - ECPv4.6.14.1//NONSGML v1.0//EN
CALSCALE:GREGORIAN
METHOD:PUBLISH
X-WR-CALNAME:DIOCESI DI ROMA
X-ORIGINAL-URL:https://www.diocesidiroma.it
X-WR-CALDESC:Eventi per DIOCESI DI ROMA
BEGIN:VEVENT
DTSTART;TZID=Europe/Rome:20190330T120000
DTEND;TZID=Europe/Rome:20190330T120000
DTSTAMP:20260421T181832
CREATED:20190325T082451Z
LAST-MODIFIED:20190325T082451Z
UID:7163-1553947200-1553947200@www.diocesidiroma.it
SUMMARY:Visita la parrocchia di San Romano Martire
DESCRIPTION:Visita la parrocchia di San Romano Martire. \n
URL:https://www.diocesidiroma.it/event/visita-la-parrocchia-di-san-romano-martire/
CATEGORIES:NON USARE --- Agenda del Vicario
END:VEVENT
END:VCALENDAR