BEGIN:VCALENDAR
VERSION:2.0
PRODID:-//DIOCESI DI ROMA - ECPv4.6.14.1//NONSGML v1.0//EN
CALSCALE:GREGORIAN
METHOD:PUBLISH
X-WR-CALNAME:DIOCESI DI ROMA
X-ORIGINAL-URL:https://www.diocesidiroma.it
X-WR-CALDESC:Eventi per DIOCESI DI ROMA
BEGIN:VEVENT
DTSTART;TZID=Europe/Rome:20241215T180000
DTEND;TZID=Europe/Rome:20241215T180000
DTSTAMP:20260422T070101
CREATED:20241206T151246Z
LAST-MODIFIED:20241206T151246Z
UID:32428-1734285600-1734285600@www.diocesidiroma.it
SUMMARY:Visita la parrocchia di Santa Giovanna Antida Thouret
DESCRIPTION:Visita la parrocchia di Santa Giovanna Antida Thouret \n
URL:https://www.diocesidiroma.it/event/visita-la-parrocchia-di-santa-giovanna-antida-thouret/
CATEGORIES:Vicario Generale
END:VEVENT
END:VCALENDAR