BEGIN:VCALENDAR
VERSION:2.0
PRODID:-//DIOCESI DI ROMA - ECPv4.6.14.1//NONSGML v1.0//EN
CALSCALE:GREGORIAN
METHOD:PUBLISH
X-WR-CALNAME:DIOCESI DI ROMA
X-ORIGINAL-URL:https://www.diocesidiroma.it
X-WR-CALDESC:Eventi per DIOCESI DI ROMA
BEGIN:VEVENT
DTSTART;TZID=Europe/Rome:20260322T160000
DTEND;TZID=Europe/Rome:20260322T160000
DTSTAMP:20260421T052626
CREATED:20260311T151342Z
LAST-MODIFIED:20260311T151342Z
UID:40485-1774195200-1774195200@www.diocesidiroma.it
SUMMARY:Visita la parrocchia e celebra la Santa Messa presso la parrocchia Santo Volto di Gesù
DESCRIPTION:Visita la parrocchia e celebra la Santa Messa presso la parrocchia Santo Volto di Gesù  \n
URL:https://www.diocesidiroma.it/event/visita-la-parrocchia-e-celebra-la-santa-messa-presso-la-parrocchia-santo-volto-di-gesu/
CATEGORIES:Vicario Generale
END:VEVENT
END:VCALENDAR