BEGIN:VCALENDAR
VERSION:2.0
PRODID:-//DIOCESI DI ROMA - ECPv4.6.14.1//NONSGML v1.0//EN
CALSCALE:GREGORIAN
METHOD:PUBLISH
X-WR-CALNAME:DIOCESI DI ROMA
X-ORIGINAL-URL:https://www.diocesidiroma.it
X-WR-CALDESC:Eventi per DIOCESI DI ROMA
BEGIN:VEVENT
DTSTART;TZID=Europe/Rome:20251128T180000
DTEND;TZID=Europe/Rome:20251128T180000
DTSTAMP:20260425T104656
CREATED:20251119T150648Z
LAST-MODIFIED:20251119T150648Z
UID:38697-1764352800-1764352800@www.diocesidiroma.it
SUMMARY:Visita la parrocchia San Cirillo Alessandrino
DESCRIPTION:Visita la parrocchia San Cirillo Alessandrino \n
URL:https://www.diocesidiroma.it/event/visita-la-parrocchia-san-cirillo-alessandrino/
CATEGORIES:Vicario Generale
END:VEVENT
END:VCALENDAR