BEGIN:VCALENDAR
VERSION:2.0
PRODID:-//DIOCESI DI ROMA - ECPv4.6.14.1//NONSGML v1.0//EN
CALSCALE:GREGORIAN
METHOD:PUBLISH
X-WR-CALNAME:DIOCESI DI ROMA
X-ORIGINAL-URL:https://www.diocesidiroma.it
X-WR-CALDESC:Eventi per DIOCESI DI ROMA
BEGIN:VEVENT
DTSTART;TZID=Europe/Rome:20260316T170000
DTEND;TZID=Europe/Rome:20260316T170000
DTSTAMP:20260421T070708
CREATED:20260311T145954Z
LAST-MODIFIED:20260311T145954Z
UID:40451-1773680400-1773680400@www.diocesidiroma.it
SUMMARY:Visita la parrocchia San Giuseppe a via Nomentana e celebra la Santa Messa
DESCRIPTION:Visita la parrocchia San Giuseppe a via Nomentana e celebra la Santa Messa  \n
URL:https://www.diocesidiroma.it/event/visita-la-parrocchia-san-giuseppe-a-via-nomentana-e-celebra-la-santa-messa/
CATEGORIES:Vicario Generale
END:VEVENT
END:VCALENDAR