BEGIN:VCALENDAR
VERSION:2.0
PRODID:-//DIOCESI DI ROMA - ECPv4.6.14.1//NONSGML v1.0//EN
CALSCALE:GREGORIAN
METHOD:PUBLISH
X-WR-CALNAME:DIOCESI DI ROMA
X-ORIGINAL-URL:https://www.diocesidiroma.it
X-WR-CALDESC:Eventi per DIOCESI DI ROMA
BEGIN:VEVENT
DTSTART;TZID=Europe/Rome:20241211T183000
DTEND;TZID=Europe/Rome:20241211T183000
DTSTAMP:20260422T182931
CREATED:20241206T110854Z
LAST-MODIFIED:20241206T110854Z
UID:32395-1733941800-1733941800@www.diocesidiroma.it
SUMMARY:Visita la parrocchia San Lorenzo in Damaso
DESCRIPTION:Visita la parrocchia San Lorenzo in Damaso \n
URL:https://www.diocesidiroma.it/event/visita-la-parrocchia-san-lorenzo-in-damaso/
CATEGORIES:Vicario Generale
END:VEVENT
END:VCALENDAR