BEGIN:VCALENDAR
VERSION:2.0
PRODID:-//DIOCESI DI ROMA - ECPv4.6.14.1//NONSGML v1.0//EN
CALSCALE:GREGORIAN
METHOD:PUBLISH
X-WR-CALNAME:DIOCESI DI ROMA
X-ORIGINAL-URL:https://www.diocesidiroma.it
X-WR-CALDESC:Eventi per DIOCESI DI ROMA
BEGIN:VEVENT
DTSTART;TZID=Europe/Rome:20260204T170000
DTEND;TZID=Europe/Rome:20260204T170000
DTSTAMP:20260422T065951
CREATED:20260129T115226Z
LAST-MODIFIED:20260129T115226Z
UID:39712-1770224400-1770224400@www.diocesidiroma.it
SUMMARY:Visita la parrocchia Santa Galla
DESCRIPTION:Visita la parrocchia Santa Galla \n
URL:https://www.diocesidiroma.it/event/visita-la-parrocchia-santa-galla/
CATEGORIES:Vicario Generale
END:VEVENT
END:VCALENDAR