BEGIN:VCALENDAR
VERSION:2.0
PRODID:-//DIOCESI DI ROMA - ECPv4.6.14.1//NONSGML v1.0//EN
CALSCALE:GREGORIAN
METHOD:PUBLISH
X-WR-CALNAME:DIOCESI DI ROMA
X-ORIGINAL-URL:https://www.diocesidiroma.it
X-WR-CALDESC:Eventi per DIOCESI DI ROMA
BEGIN:VEVENT
DTSTART;TZID=Europe/Rome:20241123T180000
DTEND;TZID=Europe/Rome:20241123T180000
DTSTAMP:20260422T083936
CREATED:20241115T171656Z
LAST-MODIFIED:20241115T171656Z
UID:31988-1732384800-1732384800@www.diocesidiroma.it
SUMMARY:Visita la parrocchia Santa Maria della Presentazione
DESCRIPTION:Visita la parrocchia Santa Maria della Presentazione \n
URL:https://www.diocesidiroma.it/event/visita-la-parrocchia-santa-maria-della-presentazione/
CATEGORIES:Vicario Generale
END:VEVENT
END:VCALENDAR