BEGIN:VCALENDAR
VERSION:2.0
PRODID:-//DIOCESI DI ROMA - ECPv4.6.14.1//NONSGML v1.0//EN
CALSCALE:GREGORIAN
METHOD:PUBLISH
X-WR-CALNAME:DIOCESI DI ROMA
X-ORIGINAL-URL:https://www.diocesidiroma.it
X-WR-CALDESC:Eventi per DIOCESI DI ROMA
BEGIN:VEVENT
DTSTART;TZID=Europe/Rome:20180929T180000
DTEND;TZID=Europe/Rome:20180929T180000
DTSTAMP:20260422T054007
CREATED:20180921T131234Z
LAST-MODIFIED:20180921T131234Z
UID:4737-1538244000-1538244000@www.diocesidiroma.it
SUMMARY:Visita la parrocchia Santa Maria Madre di Ospitalità
DESCRIPTION:Nella Parrocchia Santa Maria Madre di Ospitalità visita il Villaggio dell’Ospitalità. \n
URL:https://www.diocesidiroma.it/event/visita-la-parrocchia-santa-maria-madre-di-ospitalita/
CATEGORIES:NON USARE --- Agenda del Vicario
END:VEVENT
END:VCALENDAR