BEGIN:VCALENDAR
VERSION:2.0
PRODID:-//DIOCESI DI ROMA - ECPv4.6.14.1//NONSGML v1.0//EN
CALSCALE:GREGORIAN
METHOD:PUBLISH
X-WR-CALNAME:DIOCESI DI ROMA
X-ORIGINAL-URL:https://www.diocesidiroma.it
X-WR-CALDESC:Eventi per DIOCESI DI ROMA
BEGIN:VEVENT
DTSTART;TZID=Europe/Rome:20250626T113000
DTEND;TZID=Europe/Rome:20250626T113000
DTSTAMP:20260424T020441
CREATED:20250620T083333Z
LAST-MODIFIED:20250620T083333Z
UID:36181-1750937400-1750937400@www.diocesidiroma.it
SUMMARY:Visita la rettoria di Sant'Ivo alla Sapienza e incontra Riccardo Gandolfi\, direttore dell'Archivio di Stato di Roma
DESCRIPTION:Visita la rettoria di Sant’Ivo alla Sapienza e incontra Riccardo Gandolfi\, direttore dell’Archivio di Stato di Roma \n
URL:https://www.diocesidiroma.it/event/visita-la-rettoria-di-santivo-alla-sapienza-e-incontra-riccardo-gandolfi-direttore-dellarchivio-di-stato-di-roma/
CATEGORIES:Vicario Generale
END:VEVENT
END:VCALENDAR