BEGIN:VCALENDAR
VERSION:2.0
PRODID:-//DIOCESI DI ROMA - ECPv4.6.14.1//NONSGML v1.0//EN
CALSCALE:GREGORIAN
METHOD:PUBLISH
X-WR-CALNAME:DIOCESI DI ROMA
X-ORIGINAL-URL:https://www.diocesidiroma.it
X-WR-CALDESC:Eventi per DIOCESI DI ROMA
BEGIN:VEVENT
DTSTART;TZID=Europe/Rome:20190121T110000
DTEND;TZID=Europe/Rome:20190121T110000
DTSTAMP:20260420T233646
CREATED:20190118T093559Z
LAST-MODIFIED:20190118T093559Z
UID:6155-1548068400-1548068400@www.diocesidiroma.it
SUMMARY:Visita le parrocchie di San Vincenzo De’ Paoli e di Nostra Signora di Bonaria a Ostia
DESCRIPTION:Visita le parrocchie di San Vincenzo De’ Paoli e di Nostra Signora di Bonaria a Ostia. \n
URL:https://www.diocesidiroma.it/event/visita-le-parrocchie-di-san-vincenzo-de-paoli-e-di-nostra-signora-di-bonaria-a-ostia/
CATEGORIES:NON USARE --- Agenda del Vicario
END:VEVENT
END:VCALENDAR