BEGIN:VCALENDAR
VERSION:2.0
PRODID:-//DIOCESI DI ROMA - ECPv4.6.14.1//NONSGML v1.0//EN
CALSCALE:GREGORIAN
METHOD:PUBLISH
X-WR-CALNAME:DIOCESI DI ROMA
X-ORIGINAL-URL:https://www.diocesidiroma.it
X-WR-CALDESC:Eventi per DIOCESI DI ROMA
BEGIN:VEVENT
DTSTART;TZID=Europe/Rome:20251121T180000
DTEND;TZID=Europe/Rome:20251121T180000
DTSTAMP:20260421T195339
CREATED:20251114T093626Z
LAST-MODIFIED:20251114T093626Z
UID:38574-1763748000-1763748000@www.diocesidiroma.it
SUMMARY:Visita le Suore Missionarie della Carità (Primavalle)
DESCRIPTION:Visita le Suore Missionarie della Carità (Primavalle) \n
URL:https://www.diocesidiroma.it/event/visita-le-suore-missionarie-della-carita-primavalle/
CATEGORIES:Vicario Generale
END:VEVENT
END:VCALENDAR