BEGIN:VCALENDAR
VERSION:2.0
PRODID:-//DIOCESI DI ROMA - ECPv4.6.14.1//NONSGML v1.0//EN
CALSCALE:GREGORIAN
METHOD:PUBLISH
X-WR-CALNAME:DIOCESI DI ROMA
X-ORIGINAL-URL:https://www.diocesidiroma.it
X-WR-CALDESC:Eventi per DIOCESI DI ROMA
BEGIN:VEVENT
DTSTART;TZID=Europe/Rome:20250415T103000
DTEND;TZID=Europe/Rome:20250415T103000
DTSTAMP:20260421T165157
CREATED:20250410T113319Z
LAST-MODIFIED:20250410T113319Z
UID:35089-1744713000-1744713000@www.diocesidiroma.it
SUMMARY:Visita l’Hospice Fondazione “Sanità e Ricerca”
DESCRIPTION:Visita l’Hospice Fondazione “Sanità e Ricerca” \n
URL:https://www.diocesidiroma.it/event/visita-lhospice-fondazione-sanita-e-ricerca/
CATEGORIES:Vicario Generale
END:VEVENT
END:VCALENDAR