BEGIN:VCALENDAR
VERSION:2.0
PRODID:-//DIOCESI DI ROMA - ECPv4.6.14.1//NONSGML v1.0//EN
CALSCALE:GREGORIAN
METHOD:PUBLISH
X-WR-CALNAME:DIOCESI DI ROMA
X-ORIGINAL-URL:https://www.diocesidiroma.it
X-WR-CALDESC:Eventi per DIOCESI DI ROMA
BEGIN:VEVENT
DTSTART;TZID=Europe/Rome:20260218T100000
DTEND;TZID=Europe/Rome:20260218T100000
DTSTAMP:20260421T071659
CREATED:20260213T083000Z
LAST-MODIFIED:20260213T083000Z
UID:39920-1771408800-1771408800@www.diocesidiroma.it
SUMMARY:Visita l’Ospedale Pediatrico Bambino Gesù
DESCRIPTION:Visita l’Ospedale Pediatrico Bambino Gesù \n
URL:https://www.diocesidiroma.it/event/visita-lospedale-pediatrico-bambino-gesu/
CATEGORIES:Vicario Generale
END:VEVENT
END:VCALENDAR