BEGIN:VCALENDAR
VERSION:2.0
PRODID:-//DIOCESI DI ROMA - ECPv4.6.14.1//NONSGML v1.0//EN
CALSCALE:GREGORIAN
METHOD:PUBLISH
X-WR-CALNAME:DIOCESI DI ROMA
X-ORIGINAL-URL:https://www.diocesidiroma.it
X-WR-CALDESC:Eventi per DIOCESI DI ROMA
BEGIN:VEVENT
DTSTART;TZID=Europe/Rome:20250302T090000
DTEND;TZID=Europe/Rome:20250302T120000
DTSTAMP:20260421T182042
CREATED:20250221T074844Z
LAST-MODIFIED:20250221T074844Z
UID:34052-1740906000-1740916800@www.diocesidiroma.it
SUMMARY:Visita pastorale alla parrocchia di San Bruno
DESCRIPTION:Visita pastorale alla parrocchia di San Bruno \n
URL:https://www.diocesidiroma.it/event/visita-pastorale-alla-parrocchia-di-san-bruno-2/
CATEGORIES:Vicario Generale
END:VEVENT
END:VCALENDAR