BEGIN:VCALENDAR
VERSION:2.0
PRODID:-//DIOCESI DI ROMA - ECPv4.6.14.1//NONSGML v1.0//EN
CALSCALE:GREGORIAN
METHOD:PUBLISH
X-WR-CALNAME:DIOCESI DI ROMA
X-ORIGINAL-URL:https://www.diocesidiroma.it
X-WR-CALDESC:Eventi per DIOCESI DI ROMA
BEGIN:VEVENT
DTSTART;TZID=Europe/Rome:20250210T160000
DTEND;TZID=Europe/Rome:20250210T190000
DTSTAMP:20260421T181932
CREATED:20250207T083517Z
LAST-MODIFIED:20250207T083517Z
UID:33710-1739203200-1739214000@www.diocesidiroma.it
SUMMARY:Visita pastorale alla parrocchia di San Cipriano
DESCRIPTION:Visita pastorale alla parrocchia di San Cipriano \n
URL:https://www.diocesidiroma.it/event/visita-pastorale-alla-parrocchia-di-san-cipriano-2/
CATEGORIES:Vicario Generale
END:VEVENT
END:VCALENDAR