BEGIN:VCALENDAR
VERSION:2.0
PRODID:-//DIOCESI DI ROMA - ECPv4.6.14.1//NONSGML v1.0//EN
CALSCALE:GREGORIAN
METHOD:PUBLISH
X-WR-CALNAME:DIOCESI DI ROMA
X-ORIGINAL-URL:https://www.diocesidiroma.it
X-WR-CALDESC:Eventi per DIOCESI DI ROMA
BEGIN:VEVENT
DTSTART;TZID=Europe/Rome:20250209T170000
DTEND;TZID=Europe/Rome:20250209T210000
DTSTAMP:20260424T052201
CREATED:20250131T103640Z
LAST-MODIFIED:20250131T103646Z
UID:33618-1739120400-1739134800@www.diocesidiroma.it
SUMMARY:Visita pastorale alla parrocchia di San Cipriano
DESCRIPTION:Visita pastorale alla parrocchia di San Cipriano \n
URL:https://www.diocesidiroma.it/event/visita-pastorale-alla-parrocchia-di-san-cipriano/
CATEGORIES:Vicario Generale
END:VEVENT
END:VCALENDAR