BEGIN:VCALENDAR
VERSION:2.0
PRODID:-//DIOCESI DI ROMA - ECPv4.6.14.1//NONSGML v1.0//EN
CALSCALE:GREGORIAN
METHOD:PUBLISH
X-WR-CALNAME:DIOCESI DI ROMA
X-ORIGINAL-URL:https://www.diocesidiroma.it
X-WR-CALDESC:Eventi per DIOCESI DI ROMA
BEGIN:VEVENT
DTSTART;TZID=Europe/Rome:20250202T100000
DTEND;TZID=Europe/Rome:20250202T130000
DTSTAMP:20260422T055142
CREATED:20250124T111748Z
LAST-MODIFIED:20250124T111748Z
UID:33495-1738490400-1738501200@www.diocesidiroma.it
SUMMARY:Visita pastorale alla parrocchia di San Clemente
DESCRIPTION:Visita pastorale alla parrocchia di San Clemente \n
URL:https://www.diocesidiroma.it/event/visita-pastorale-alla-parrocchia-di-san-clemente-2/
CATEGORIES:Vicario Generale
END:VEVENT
END:VCALENDAR