BEGIN:VCALENDAR
VERSION:2.0
PRODID:-//DIOCESI DI ROMA - ECPv4.6.14.1//NONSGML v1.0//EN
CALSCALE:GREGORIAN
METHOD:PUBLISH
X-WR-CALNAME:DIOCESI DI ROMA
X-ORIGINAL-URL:https://www.diocesidiroma.it
X-WR-CALDESC:Eventi per DIOCESI DI ROMA
BEGIN:VEVENT
DTSTART;TZID=Europe/Rome:20250120T180000
DTEND;TZID=Europe/Rome:20250120T210000
DTSTAMP:20260421T132152
CREATED:20250117T105849Z
LAST-MODIFIED:20250117T105849Z
UID:33343-1737396000-1737406800@www.diocesidiroma.it
SUMMARY:Visita Pastorale alla parrocchia di San Lino
DESCRIPTION:Visita Pastorale alla parrocchia di San Lino \n
URL:https://www.diocesidiroma.it/event/visita-pastorale-alla-parrocchia-di-san-lino-2/
CATEGORIES:Vicario Generale
END:VEVENT
END:VCALENDAR