BEGIN:VCALENDAR
VERSION:2.0
PRODID:-//DIOCESI DI ROMA - ECPv4.6.14.1//NONSGML v1.0//EN
CALSCALE:GREGORIAN
METHOD:PUBLISH
X-WR-CALNAME:DIOCESI DI ROMA
X-ORIGINAL-URL:https://www.diocesidiroma.it
X-WR-CALDESC:Eventi per DIOCESI DI ROMA
BEGIN:VEVENT
DTSTART;TZID=Europe/Rome:20250127T160000
DTEND;TZID=Europe/Rome:20250127T210000
DTSTAMP:20260421T162823
CREATED:20250124T095440Z
LAST-MODIFIED:20250124T095440Z
UID:33464-1737993600-1738011600@www.diocesidiroma.it
SUMMARY:Visita Pastorale alla parrocchia di San Saturnino
DESCRIPTION:Visita Pastorale alla parrocchia di San Saturnino \n
URL:https://www.diocesidiroma.it/event/visita-pastorale-alla-parrocchia-di-san-saturnino/
CATEGORIES:Vicario Generale
END:VEVENT
END:VCALENDAR