BEGIN:VCALENDAR
VERSION:2.0
PRODID:-//DIOCESI DI ROMA - ECPv4.6.14.1//NONSGML v1.0//EN
CALSCALE:GREGORIAN
METHOD:PUBLISH
X-WR-CALNAME:DIOCESI DI ROMA
X-ORIGINAL-URL:https://www.diocesidiroma.it
X-WR-CALDESC:Eventi per DIOCESI DI ROMA
BEGIN:VEVENT
DTSTART;TZID=Europe/Rome:20250626T163000
DTEND;TZID=Europe/Rome:20250626T200000
DTSTAMP:20260421T090057
CREATED:20250620T083410Z
LAST-MODIFIED:20250620T083418Z
UID:36183-1750955400-1750968000@www.diocesidiroma.it
SUMMARY:Visita pastorale alla parrocchia di San Vigilio
DESCRIPTION:Visita pastorale alla parrocchia di San Vigilio \n
URL:https://www.diocesidiroma.it/event/visita-pastorale-alla-parrocchia-di-san-vigilio/
CATEGORIES:Vicario Generale
END:VEVENT
END:VCALENDAR