BEGIN:VCALENDAR
VERSION:2.0
PRODID:-//DIOCESI DI ROMA - ECPv4.6.14.1//NONSGML v1.0//EN
CALSCALE:GREGORIAN
METHOD:PUBLISH
X-WR-CALNAME:DIOCESI DI ROMA
X-ORIGINAL-URL:https://www.diocesidiroma.it
X-WR-CALDESC:Eventi per DIOCESI DI ROMA
BEGIN:VEVENT
DTSTART;TZID=Europe/Rome:20251003T163000
DTEND;TZID=Europe/Rome:20251003T163000
DTSTAMP:20260421T115810
CREATED:20250926T091605Z
LAST-MODIFIED:20250926T091605Z
UID:37420-1759509000-1759509000@www.diocesidiroma.it
SUMMARY:Visita pastorale alla parrocchia di Sant’Atanasio
DESCRIPTION:Visita pastorale alla parrocchia di Sant’Atanasio \n
URL:https://www.diocesidiroma.it/event/visita-pastorale-alla-parrocchia-di-santatanasio/
CATEGORIES:Vicario Generale
END:VEVENT
END:VCALENDAR