BEGIN:VCALENDAR
VERSION:2.0
PRODID:-//DIOCESI DI ROMA - ECPv4.6.14.1//NONSGML v1.0//EN
CALSCALE:GREGORIAN
METHOD:PUBLISH
X-WR-CALNAME:DIOCESI DI ROMA
X-ORIGINAL-URL:https://www.diocesidiroma.it
X-WR-CALDESC:Eventi per DIOCESI DI ROMA
BEGIN:VEVENT
DTSTART;TZID=Europe/Rome:20250302T173000
DTEND;TZID=Europe/Rome:20250302T173000
DTSTAMP:20260421T174538
CREATED:20250221T074933Z
LAST-MODIFIED:20250221T074933Z
UID:34054-1740936600-1740936600@www.diocesidiroma.it
SUMMARY:Visita pastorale alla parrocchia di Sant'Eligio
DESCRIPTION:Visita pastorale alla parrocchia di Sant’Eligio \n
URL:https://www.diocesidiroma.it/event/visita-pastorale-alla-parrocchia-di-santeligio/
CATEGORIES:Vicario Generale
END:VEVENT
END:VCALENDAR