BEGIN:VCALENDAR
VERSION:2.0
PRODID:-//DIOCESI DI ROMA - ECPv4.6.14.1//NONSGML v1.0//EN
CALSCALE:GREGORIAN
METHOD:PUBLISH
X-WR-CALNAME:DIOCESI DI ROMA
X-ORIGINAL-URL:https://www.diocesidiroma.it
X-WR-CALDESC:Eventi per DIOCESI DI ROMA
BEGIN:VEVENT
DTSTART;TZID=Europe/Rome:20250413T100000
DTEND;TZID=Europe/Rome:20250413T100000
DTSTAMP:20260421T104529
CREATED:20250404T095347Z
LAST-MODIFIED:20250404T095347Z
UID:35002-1744538400-1744538400@www.diocesidiroma.it
SUMMARY:Visita pastorale alla parrocchia Nostra Signora di Lourdes a Tor Marancia
DESCRIPTION:Visita pastorale alla parrocchia Nostra Signora di Lourdes a Tor Marancia \n
URL:https://www.diocesidiroma.it/event/visita-pastorale-alla-parrocchia-nostra-signora-di-lourdes-a-tor-marancia-2/
CATEGORIES:Vicario Generale
END:VEVENT
END:VCALENDAR