BEGIN:VCALENDAR
VERSION:2.0
PRODID:-//DIOCESI DI ROMA - ECPv4.6.14.1//NONSGML v1.0//EN
CALSCALE:GREGORIAN
METHOD:PUBLISH
X-WR-CALNAME:DIOCESI DI ROMA
X-ORIGINAL-URL:https://www.diocesidiroma.it
X-WR-CALDESC:Eventi per DIOCESI DI ROMA
BEGIN:VEVENT
DTSTART;TZID=Europe/Rome:20250623T170000
DTEND;TZID=Europe/Rome:20250623T210000
DTSTAMP:20260421T041040
CREATED:20250620T082956Z
LAST-MODIFIED:20250620T082956Z
UID:36169-1750698000-1750712400@www.diocesidiroma.it
SUMMARY:Visita pastorale alla parrocchia Sacro Cuore di Gesù a Ponte Mammolo
DESCRIPTION:Visita pastorale alla parrocchia Sacro Cuore di Gesù a Ponte Mammolo \n
URL:https://www.diocesidiroma.it/event/visita-pastorale-alla-parrocchia-sacro-cuore-di-gesu-a-ponte-mammolo/
CATEGORIES:Vicario Generale
END:VEVENT
END:VCALENDAR