BEGIN:VCALENDAR
VERSION:2.0
PRODID:-//DIOCESI DI ROMA - ECPv4.6.14.1//NONSGML v1.0//EN
CALSCALE:GREGORIAN
METHOD:PUBLISH
X-WR-CALNAME:DIOCESI DI ROMA
X-ORIGINAL-URL:https://www.diocesidiroma.it
X-WR-CALDESC:Eventi per DIOCESI DI ROMA
BEGIN:VEVENT
DTSTART;TZID=Europe/Rome:20260128T170000
DTEND;TZID=Europe/Rome:20260128T170000
DTSTAMP:20260421T164326
CREATED:20260123T100507Z
LAST-MODIFIED:20260124T150847Z
UID:39605-1769619600-1769619600@www.diocesidiroma.it
SUMMARY:Visita alla parrocchia San Gelasio I Papa
DESCRIPTION:Visita alla parrocchia San Gelasio I Papa \n
URL:https://www.diocesidiroma.it/event/visita-pastorale-alla-parrocchia-san-gelasio-i-papa/
CATEGORIES:Vicario Generale
END:VEVENT
END:VCALENDAR