BEGIN:VCALENDAR
VERSION:2.0
PRODID:-//DIOCESI DI ROMA - ECPv4.6.14.1//NONSGML v1.0//EN
CALSCALE:GREGORIAN
METHOD:PUBLISH
X-WR-CALNAME:DIOCESI DI ROMA
X-ORIGINAL-URL:https://www.diocesidiroma.it
X-WR-CALDESC:Eventi per DIOCESI DI ROMA
BEGIN:VEVENT
DTSTART;TZID=Europe/Rome:20251123T093000
DTEND;TZID=Europe/Rome:20251123T093000
DTSTAMP:20260421T005044
CREATED:20251114T093944Z
LAST-MODIFIED:20251114T093944Z
UID:38587-1763890200-1763890200@www.diocesidiroma.it
SUMMARY:Visita pastorale alla parrocchia San Giovanni Battista in Collatino
DESCRIPTION:Visita pastorale alla parrocchia San Giovanni Battista in Collatino \n
URL:https://www.diocesidiroma.it/event/visita-pastorale-alla-parrocchia-san-giovanni-battista-in-collatino/
CATEGORIES:Vicario Generale
END:VEVENT
END:VCALENDAR