BEGIN:VCALENDAR
VERSION:2.0
PRODID:-//DIOCESI DI ROMA - ECPv4.6.14.1//NONSGML v1.0//EN
CALSCALE:GREGORIAN
METHOD:PUBLISH
X-WR-CALNAME:DIOCESI DI ROMA
X-ORIGINAL-URL:https://www.diocesidiroma.it
X-WR-CALDESC:Eventi per DIOCESI DI ROMA
BEGIN:VEVENT
DTSTART;TZID=Europe/Rome:20250216T090000
DTEND;TZID=Europe/Rome:20250216T120000
DTSTAMP:20260421T010707
CREATED:20250207T085815Z
LAST-MODIFIED:20250207T085815Z
UID:33742-1739696400-1739707200@www.diocesidiroma.it
SUMMARY:Visita pastorale alla parrocchia San Giovanni Crisostomo
DESCRIPTION:Visita pastorale alla parrocchia San Giovanni Crisostomo \n
URL:https://www.diocesidiroma.it/event/visita-pastorale-alla-parrocchia-san-giovanni-crisostomo/
CATEGORIES:Vicario Generale
END:VEVENT
END:VCALENDAR