BEGIN:VCALENDAR
VERSION:2.0
PRODID:-//DIOCESI DI ROMA - ECPv4.6.14.1//NONSGML v1.0//EN
CALSCALE:GREGORIAN
METHOD:PUBLISH
X-WR-CALNAME:DIOCESI DI ROMA
X-ORIGINAL-URL:https://www.diocesidiroma.it
X-WR-CALDESC:Eventi per DIOCESI DI ROMA
BEGIN:VEVENT
DTSTART;TZID=Europe/Rome:20251202T160000
DTEND;TZID=Europe/Rome:20251202T200000
DTSTAMP:20260421T120935
CREATED:20251127T131914Z
LAST-MODIFIED:20251201T092530Z
UID:38827-1764691200-1764705600@www.diocesidiroma.it
SUMMARY:Visita pastorale alla parrocchia San Leone I
DESCRIPTION:Visita pastorale alla parrocchia San Leone I \n
URL:https://www.diocesidiroma.it/event/visita-pastorale-alla-parrocchia-san-leone-i/
CATEGORIES:Vicario Generale
END:VEVENT
END:VCALENDAR