BEGIN:VCALENDAR
VERSION:2.0
PRODID:-//DIOCESI DI ROMA - ECPv4.6.14.1//NONSGML v1.0//EN
CALSCALE:GREGORIAN
METHOD:PUBLISH
X-WR-CALNAME:DIOCESI DI ROMA
X-ORIGINAL-URL:https://www.diocesidiroma.it
X-WR-CALDESC:Eventi per DIOCESI DI ROMA
BEGIN:VEVENT
DTSTART;TZID=Europe/Rome:20251013T173000
DTEND;TZID=Europe/Rome:20251013T190000
DTSTAMP:20260421T042401
CREATED:20251010T064106Z
LAST-MODIFIED:20251010T064106Z
UID:37715-1760376600-1760382000@www.diocesidiroma.it
SUMMARY:Visita pastorale alla parrocchia San Marco in Agro Laurentino e benedizione della pala d’altare restaurata
DESCRIPTION:Visita pastorale alla parrocchia San Marco in Agro Laurentino e benedizione della pala d’altare restaurata \n
URL:https://www.diocesidiroma.it/event/visita-pastorale-alla-parrocchia-san-marco-in-agro-laurentino-e-benedizione-della-pala-daltare-restaurata/
CATEGORIES:Vicario Generale
END:VEVENT
END:VCALENDAR