BEGIN:VCALENDAR
VERSION:2.0
PRODID:-//DIOCESI DI ROMA - ECPv4.6.14.1//NONSGML v1.0//EN
CALSCALE:GREGORIAN
METHOD:PUBLISH
X-WR-CALNAME:DIOCESI DI ROMA
X-ORIGINAL-URL:https://www.diocesidiroma.it
X-WR-CALDESC:Eventi per DIOCESI DI ROMA
BEGIN:VEVENT
DTSTART;TZID=Europe/Rome:20251130T160000
DTEND;TZID=Europe/Rome:20251130T200000
DTSTAMP:20260421T004606
CREATED:20251119T151157Z
LAST-MODIFIED:20251119T151211Z
UID:38709-1764518400-1764532800@www.diocesidiroma.it
SUMMARY:Visita pastorale alla parrocchia San Romano Martire
DESCRIPTION:Visita pastorale alla parrocchia San Romano Martire \n
URL:https://www.diocesidiroma.it/event/visita-pastorale-alla-parrocchia-san-romano-martire/
CATEGORIES:Vicario Generale
END:VEVENT
END:VCALENDAR