BEGIN:VCALENDAR
VERSION:2.0
PRODID:-//DIOCESI DI ROMA - ECPv4.6.14.1//NONSGML v1.0//EN
CALSCALE:GREGORIAN
METHOD:PUBLISH
X-WR-CALNAME:DIOCESI DI ROMA
X-ORIGINAL-URL:https://www.diocesidiroma.it
X-WR-CALDESC:Eventi per DIOCESI DI ROMA
BEGIN:VEVENT
DTSTART;TZID=Europe/Rome:20250228T170000
DTEND;TZID=Europe/Rome:20250228T220000
DTSTAMP:20260421T023537
CREATED:20250221T074552Z
LAST-MODIFIED:20250221T074552Z
UID:34044-1740762000-1740780000@www.diocesidiroma.it
SUMMARY:Visita pastorale alla parrocchia Santa Maria ai Monti
DESCRIPTION:Visita pastorale alla parrocchia Santa Maria ai Monti \n
URL:https://www.diocesidiroma.it/event/visita-pastorale-alla-parrocchia-santa-maria-ai-monti/
CATEGORIES:Vicario Generale
END:VEVENT
END:VCALENDAR