BEGIN:VCALENDAR
VERSION:2.0
PRODID:-//DIOCESI DI ROMA - ECPv4.6.14.1//NONSGML v1.0//EN
CALSCALE:GREGORIAN
METHOD:PUBLISH
X-WR-CALNAME:DIOCESI DI ROMA
X-ORIGINAL-URL:https://www.diocesidiroma.it
X-WR-CALDESC:Eventi per DIOCESI DI ROMA
BEGIN:VEVENT
DTSTART;TZID=Europe/Rome:20251008T163000
DTEND;TZID=Europe/Rome:20251008T210000
DTSTAMP:20260421T023519
CREATED:20251003T105613Z
LAST-MODIFIED:20251003T105620Z
UID:37636-1759941000-1759957200@www.diocesidiroma.it
SUMMARY:Visita pastorale alla parrocchia Santa Maria Assunta e San Giuseppe a Primavalle
DESCRIPTION:Visita pastorale alla parrocchia Santa Maria Assunta e San Giuseppe a Primavalle \n
URL:https://www.diocesidiroma.it/event/visita-pastorale-alla-parrocchia-santa-maria-assunta-e-san-giuseppe-a-primavalle-2/
CATEGORIES:Vicario Generale
END:VEVENT
END:VCALENDAR